BEGIN:VCALENDAR
VERSION:2.0
PRODID:-//Harford County Running Club - ECPv6.15.20//NONSGML v1.0//EN
CALSCALE:GREGORIAN
METHOD:PUBLISH
X-ORIGINAL-URL:https://runharford.com
X-WR-CALDESC:Events for Harford County Running Club
REFRESH-INTERVAL;VALUE=DURATION:PT1H
X-Robots-Tag:noindex
X-PUBLISHED-TTL:PT1H
BEGIN:VTIMEZONE
TZID:America/New_York
BEGIN:DAYLIGHT
TZOFFSETFROM:-0500
TZOFFSETTO:-0400
TZNAME:EDT
DTSTART:20240310T070000
END:DAYLIGHT
BEGIN:STANDARD
TZOFFSETFROM:-0400
TZOFFSETTO:-0500
TZNAME:EST
DTSTART:20241103T060000
END:STANDARD
BEGIN:DAYLIGHT
TZOFFSETFROM:-0500
TZOFFSETTO:-0400
TZNAME:EDT
DTSTART:20250309T070000
END:DAYLIGHT
BEGIN:STANDARD
TZOFFSETFROM:-0400
TZOFFSETTO:-0500
TZNAME:EST
DTSTART:20251102T060000
END:STANDARD
BEGIN:DAYLIGHT
TZOFFSETFROM:-0500
TZOFFSETTO:-0400
TZNAME:EDT
DTSTART:20260308T070000
END:DAYLIGHT
BEGIN:STANDARD
TZOFFSETFROM:-0400
TZOFFSETTO:-0500
TZNAME:EST
DTSTART:20261101T060000
END:STANDARD
END:VTIMEZONE
BEGIN:VEVENT
DTSTART;TZID=America/New_York:20251019T080000
DTEND;TZID=America/New_York:20251019T100000
DTSTAMP:20260424T200338
CREATED:20250906T004823Z
LAST-MODIFIED:20251015T221553Z
UID:7169-1760860800-1760868000@runharford.com
SUMMARY:Dash\,Discounts\, and Das
DESCRIPTION:Join us for a Charm City Run and HCRC member crossover event! We will start with a stroller friendly run beginning at CCR Bel Air. After the run\, HCRC members can enjoy a discount at CCR and brunch at Das Bierhalle. The run is open to the public but you must be a HCRC member to receive the discount. Same day memberships welcomed. Please park in the public parking lot across from CCR.\nRun: 8 amCCR Shopping: 9 amDas Brunch: 10 am\nRun Host: Charm City Run – Bel Air\n\nRegistration: \nhttps://forms.gle/nndTT75635BAPmYu5\n\nResults:\nhttps://forms.gle/ggvMUWkRvXAP5Hpd7\n\n\nNon-members can now join us for three free runs. If you’re not yet a member\, check out all the benefits you get by joining!\nwww.runharford.com/membership/benefits
URL:https://runharford.com/event/dashdiscounts-and-das/
CATEGORIES:Group Runs
END:VEVENT
BEGIN:VEVENT
DTSTART;TZID=America/New_York:20251026T080000
DTEND;TZID=America/New_York:20251026T100000
DTSTAMP:20260424T200338
CREATED:20251015T221856Z
LAST-MODIFIED:20251021T010402Z
UID:7226-1761465600-1761472800@runharford.com
SUMMARY:Susquehanna State Park 10k
DESCRIPTION:Join us for an out and back 10k course on Strafford and Craig’s Corner Roads. There will be a running and walking option. This course is stroller friendly. \nRun Host: Nathan Boyer \nRegistration: https://forms.gle/QDC8SwXvPqGMG7bE8 \nResults: https://forms.gle/oYLzKcBjaeKsVj7z9\nNon-members can now join us for three free runs. If you’re not yet a member\, check out all the benefits you get by joining!\nwww.runharford.com/membership/benefits
URL:https://runharford.com/event/susquehanna-state-park-10k-3/
CATEGORIES:3rd Quarter,Group Runs
END:VEVENT
END:VCALENDAR