BEGIN:VCALENDAR
VERSION:2.0
PRODID:-//Harford County Running Club - ECPv6.15.20//NONSGML v1.0//EN
CALSCALE:GREGORIAN
METHOD:PUBLISH
X-WR-CALNAME:Harford County Running Club
X-ORIGINAL-URL:https://runharford.com
X-WR-CALDESC:Events for Harford County Running Club
REFRESH-INTERVAL;VALUE=DURATION:PT1H
X-Robots-Tag:noindex
X-PUBLISHED-TTL:PT1H
BEGIN:VTIMEZONE
TZID:America/New_York
BEGIN:DAYLIGHT
TZOFFSETFROM:-0500
TZOFFSETTO:-0400
TZNAME:EDT
DTSTART:20240310T070000
END:DAYLIGHT
BEGIN:STANDARD
TZOFFSETFROM:-0400
TZOFFSETTO:-0500
TZNAME:EST
DTSTART:20241103T060000
END:STANDARD
BEGIN:DAYLIGHT
TZOFFSETFROM:-0500
TZOFFSETTO:-0400
TZNAME:EDT
DTSTART:20250309T070000
END:DAYLIGHT
BEGIN:STANDARD
TZOFFSETFROM:-0400
TZOFFSETTO:-0500
TZNAME:EST
DTSTART:20251102T060000
END:STANDARD
BEGIN:DAYLIGHT
TZOFFSETFROM:-0500
TZOFFSETTO:-0400
TZNAME:EDT
DTSTART:20260308T070000
END:DAYLIGHT
BEGIN:STANDARD
TZOFFSETFROM:-0400
TZOFFSETTO:-0500
TZNAME:EST
DTSTART:20261101T060000
END:STANDARD
END:VTIMEZONE
BEGIN:VEVENT
DTSTART;TZID=America/New_York:20251102T080000
DTEND;TZID=America/New_York:20251102T103000
DTSTAMP:20260424T183941
CREATED:20251015T222219Z
LAST-MODIFIED:20251029T102443Z
UID:7229-1762070400-1762079400@runharford.com
SUMMARY:Patterson Mill Hill 5k
DESCRIPTION:Join us for a 5kish course on roads starting at Patterson Mill High School. There will be a running and walking option. This course is stroller friendly. Park at Patterson Mill High. \nRun Host: Katie Peterson \nRegistration: https://forms.gle/Kb7X4fbGwqR9jDWE8 \nResults: https://forms.gle/R2WCsoggGtEU8WU18 \nNon-members can now join us for three free runs. If you’re not yet a member\, check out all the benefits you get by joining!\nwww.runharford.com/membership/benefits
URL:https://runharford.com/event/patterson-mill-hill-5k-2/
LOCATION:Patterson Mill High School
CATEGORIES:4th Quarter,Group Runs
END:VEVENT
BEGIN:VEVENT
DTSTART;TZID=America/New_York:20251109T080000
DTEND;TZID=America/New_York:20251109T100000
DTSTAMP:20260424T183941
CREATED:20251015T222442Z
LAST-MODIFIED:20251107T211200Z
UID:7233-1762675200-1762682400@runharford.com
SUMMARY:3 Card Poker 5K
DESCRIPTION:Join us for a 5k at Poplar Grove Park. This is a paved trail loop course. This course is stroller friendly. \nRun Host: Phil Anderson \nRegistration: https://forms.gle/TRWoaSRXqEMKyScF8 \nResults: https://forms.gle/qPtRDPYkwuqu7CWP8\nNon-members can now join us for three free runs. If you’re not yet a member\, check out all the benefits you get by joining!\nwww.runharford.com/membership/benefits
URL:https://runharford.com/event/3-card-poker-5k/
LOCATION:Poplar Grove Park\, 3521 Conowingo Rd\, Street
CATEGORIES:Group Runs
END:VEVENT
BEGIN:VEVENT
DTSTART;TZID=America/New_York:20251116T080000
DTEND;TZID=America/New_York:20251116T100000
DTSTAMP:20260424T183941
CREATED:20251015T222605Z
LAST-MODIFIED:20251110T202636Z
UID:7237-1763280000-1763287200@runharford.com
SUMMARY:Mustang 5 Miler
DESCRIPTION:Join us for a 5 mile course on roads starting at C. Milton Wright High School. There will be a running and walking option. This course is stroller friendly. Park at C. Milton Wright High. \nRun Host: April Plaisted \nRegistration: https://forms.gle/5JUBkS4SGtv53Uh3A \n\nResults: https://forms.gle/qXts1cteC5p5NDxq7\nNon-members can now join us for three free runs. If you’re not yet a member\, check out all the benefits you get by joining!\nwww.runharford.com/membership/benefits
URL:https://runharford.com/event/mustang-5-miler/
LOCATION:C Milton Wright HS\, 1301 N Fountain Green Rd\, MD\, United States
CATEGORIES:4th Quarter,Group Runs
END:VEVENT
END:VCALENDAR