BEGIN:VCALENDAR
VERSION:2.0
PRODID:-//Harford County Running Club - ECPv6.15.20//NONSGML v1.0//EN
CALSCALE:GREGORIAN
METHOD:PUBLISH
X-ORIGINAL-URL:https://runharford.com
X-WR-CALDESC:Events for Harford County Running Club
REFRESH-INTERVAL;VALUE=DURATION:PT1H
X-Robots-Tag:noindex
X-PUBLISHED-TTL:PT1H
BEGIN:VTIMEZONE
TZID:America/New_York
BEGIN:DAYLIGHT
TZOFFSETFROM:-0500
TZOFFSETTO:-0400
TZNAME:EDT
DTSTART:20250309T070000
END:DAYLIGHT
BEGIN:STANDARD
TZOFFSETFROM:-0400
TZOFFSETTO:-0500
TZNAME:EST
DTSTART:20251102T060000
END:STANDARD
BEGIN:DAYLIGHT
TZOFFSETFROM:-0500
TZOFFSETTO:-0400
TZNAME:EDT
DTSTART:20260308T070000
END:DAYLIGHT
BEGIN:STANDARD
TZOFFSETFROM:-0400
TZOFFSETTO:-0500
TZNAME:EST
DTSTART:20261101T060000
END:STANDARD
BEGIN:DAYLIGHT
TZOFFSETFROM:-0500
TZOFFSETTO:-0400
TZNAME:EDT
DTSTART:20270314T070000
END:DAYLIGHT
BEGIN:STANDARD
TZOFFSETFROM:-0400
TZOFFSETTO:-0500
TZNAME:EST
DTSTART:20271107T060000
END:STANDARD
END:VTIMEZONE
BEGIN:VEVENT
DTSTART;TZID=America/New_York:20260301T080000
DTEND;TZID=America/New_York:20260301T100000
DTSTAMP:20260424T144827
CREATED:20251216T023655Z
LAST-MODIFIED:20260223T232749Z
UID:7391-1772352000-1772359200@runharford.com
SUMMARY:Chinese Lantern Festival
DESCRIPTION:3/1 \nChinese Lantern Festival \nSouthampton Middle School \nSnowflake Run 10: Come celebrate the Chinese Lantern Festival with HCRC and earn a Snowflake Series Point. This 5K run will start at Southampton Middle School and travel on sidewalks around Moores Mill and Hempton Ridge. Following the run\, there will be a Snowflake Flurries Run for children 10 and under. \nRegistration: https://forms.gle/eqDgqTA5gfvNhAu9A \n\n\nResults: https://forms.gle/vBC9CDqLvBAgvQPn6\nParking: Southampton Middle School \nRun Host: Chi-Chin Wu
URL:https://runharford.com/event/chinese-lantern-festival/
CATEGORIES:Snowflake Series
END:VEVENT
BEGIN:VEVENT
DTSTART;TZID=America/New_York:20260308T080000
DTEND;TZID=America/New_York:20260308T170000
DTSTAMP:20260424T144827
CREATED:20251216T023826Z
LAST-MODIFIED:20260303T023318Z
UID:7394-1772956800-1772989200@runharford.com
SUMMARY:Sweet Air Trail Run
DESCRIPTION:Sweet Air Trail Run \nRegistration: https://forms.gle/Q4EJgKeCwkv5fsZU6 \n\nResults: https://forms.gle/QXQupBawZAFXigKcA\n2791 Dalton Bevard Rd\, Baldwin\, MD \nSnowflake Run 11: The Sweet Air Trail Run takes us out to the Sweet Air section of Little Gunpowder State Park. According to run director\, John Miller\, Sweet Air is the #bestsnowflakepoint. This is a 5.5 mile trail run. \nParking: Parking lot at the end of the lane. Parking is limited\, please carpool where possible. \nRun Host: John Miller
URL:https://runharford.com/event/sweet-air-trail-run-4/
CATEGORIES:Snowflake Series
END:VEVENT
BEGIN:VEVENT
DTSTART;TZID=America/New_York:20260315T080000
DTEND;TZID=America/New_York:20260315T100000
DTSTAMP:20260424T144827
CREATED:20251216T024012Z
LAST-MODIFIED:20260309T203833Z
UID:7397-1773561600-1773568800@runharford.com
SUMMARY:North Bend 6.5 Miler
DESCRIPTION:North Bend 6.5 Miler \nNorth Bend Elementary \nSnowflake Run 12: North Bend is a scenic countryside run that will not disappoint. Come run and celebrate our club vice president’s birthday. That’s right\, it is Phil Anderson’s 81st birthday. The course is stroller friendly. \nParking: North Bend Elementary \nRun Host: Alex Blahus \nRegistration: https://forms.gle/j1r3ccToVJn436sHA \n\nResults: https://forms.gle/ibW4xRXJJRjsQS2p8
URL:https://runharford.com/event/north-bend-6-5-miler-2/
CATEGORIES:Snowflake Series
END:VEVENT
BEGIN:VEVENT
DTSTART;TZID=America/New_York:20260321T080000
DTEND;TZID=America/New_York:20260321T170000
DTSTAMP:20260424T144827
CREATED:20251216T024137Z
LAST-MODIFIED:20251216T024137Z
UID:7400-1774080000-1774112400@runharford.com
SUMMARY:HAT Run 50k
DESCRIPTION:HAT Run 50k \n461 Quaker Bottom Rd\, Havre de Grace\, MD \nSnowflake Run 13: HAT 50K is one of HCRC’s premier runs. The course is mostly single-track trail with a mix of open fields\, dirt road\, and some paved road. The course features nearly 4\,400 feet of climbing. There is a starting loop of 3 miles followed by two loops of 14 miles. There are 4 stream crossings that can be challenging depending on the water level – there is always the chance of getting wet feet. \nParking: 461 Quaker Bottom Rd\, Havre de Grace\, MD. Follow parking attendants’ directions. \nHosts: Ginn White\, Tim Gavin\, Seth McElroy \nLink: https://ultrasignup.com/register.aspx?did=128304
URL:https://runharford.com/event/hat-run-50k-3/
CATEGORIES:Snowflake Series
END:VEVENT
BEGIN:VEVENT
DTSTART;TZID=America/New_York:20260322T080000
DTEND;TZID=America/New_York:20260322T100000
DTSTAMP:20260424T144827
CREATED:20251216T024302Z
LAST-MODIFIED:20260317T195349Z
UID:7403-1774166400-1774173600@runharford.com
SUMMARY:Wandering Turkey Run
DESCRIPTION:111 Thomas St\, Bel Air\, MD 21014-3648\, United States\nA road and gravel trail 5k. We will start on Thomas St across from Vagabond and travel some of the same roads as the local Turkey Trot as well as part of the Ma Pa Trail. There will be a kids run following the Wandering Turkey Run.\nParking: Public parking lots around 111 Thomas St Bel Air\, MD\nRun Host: Paula and Charles Clow \nRegistration: https://forms.gle/pNbe3eDEftVxHqY27 \n\n\nResults: https://forms.gle/QDEy1ZWnHFCE6CQ86
URL:https://runharford.com/event/happy-dinosaur-trail-run/
CATEGORIES:Snowflake Series
END:VEVENT
BEGIN:VEVENT
DTSTART;TZID=America/New_York:20260328T100000
DTEND;TZID=America/New_York:20260328T120000
DTSTAMP:20260424T144827
CREATED:20260323T130827Z
LAST-MODIFIED:20260323T130827Z
UID:7520-1774692000-1774699200@runharford.com
SUMMARY:Adopt a Highway
DESCRIPTION:**Snowflake Volunteer Opportunity** \nHCRC will be cleaning a 3 mile stretch of road (both sides of Rt 155) located between the HCRC Adopt A Highway signs. \nWe will meet at 9:45am at the Churchville Rec Center\, 111 Glenville Road\, Churchville\, MD. \nPlease complete the following: \nParticipant Application and Waiver\nhttps://us.services.docusign.net/webforms-ux/v1.0/forms/71047f8c8c692e40723156aa106dfe8a \nEnter the following information when signing the waiver:\nGroup leader: Jill Young\nGroup email: president@runharford.com\nShop: Churchville\nGroup name: Harford County Running Club\nPlease click finish so that we receive a copy of the waiver. \n1. Bring a pair of work gloves for picking up trash.\n2. You will be provided with a safety vest.\n3. Wear proper clothing for the weather and hard soled shoes. Avoid exposure to the sun\, poisonous plants\, and insect nests; long sleeve shirts and long pants are recommended.\n4. If you have a student participating who needs service hours\, please bring any forms that may need to be signed. \nMust be 13 yrs old or older to participate. Children aged 17 and younger must have parental permission and signed waiver along with a parent on site.
URL:https://runharford.com/event/adopt-a-highway-3/
END:VEVENT
BEGIN:VEVENT
DTSTART;TZID=America/New_York:20260329T080000
DTEND;TZID=America/New_York:20260329T100000
DTSTAMP:20260424T144827
CREATED:20251216T024425Z
LAST-MODIFIED:20260326T010206Z
UID:7406-1774771200-1774778400@runharford.com
SUMMARY:Donut Hill Killer Run
DESCRIPTION:Donut Hill Killer Run \nSol Oaxaca Cocina Mexicana \nSnowflake Run: The final run of the 2026 Snowflake Series is a series classic. The course is a 10K road run with hills provided mid course. The course is stroller friendly. Coffee and donuts will be provided afterwards. The perfect way to end the Snowflake Series. Following the run\, there will be a Snowflake Flurries Run for children 10 and under. \nParking: Sol Oaxaca/Dunkin Donuts parking lot \nRun Host: Darren Thompson \n\nregister https://docs.google.com/forms/d/e/1FAIpQLSewWZWHG2tUrJf7mnT3mFBN2A2psnXUzW1v8-Fo7pam2N6YgA/viewform?fbclid=IwVERDUAQxZJ5leHRuA2FlbQIxMQBzcnRjBmFwcF9pZAo2NjI4NTY4Mzc5AAEehbKiKWxQcgTdJZsGQzFMyHGkz4vO_KsQucq5raAVV0EuRpyUqtzHb245Yuc_aem_iVZpg20U1zrXd2JsrXS1ag
URL:https://runharford.com/event/donut-hill-killer-run/
CATEGORIES:Snowflake Series
END:VEVENT
END:VCALENDAR